BEGIN:VCALENDAR
VERSION:2.0
PRODID:-//pretix//pretix.eu//
BEGIN:VTIMEZONE
TZID:Europe/Berlin
BEGIN:STANDARD
DTSTART:20001029T040000
RRULE:FREQ=YEARLY;BYDAY=-1SU;BYMONTH=10
TZNAME:CET
TZOFFSETFROM:+0200
TZOFFSETTO:+0100
END:STANDARD
BEGIN:DAYLIGHT
DTSTART:20000326T030000
RRULE:FREQ=YEARLY;BYDAY=-1SU;BYMONTH=3
TZNAME:CEST
TZOFFSETFROM:+0100
TZOFFSETTO:+0200
END:DAYLIGHT
END:VTIMEZONE
BEGIN:VEVENT
UID:pretix-inPetto-LB-25-26-4613444@inpetto.nowticket.de
DTSTART;TZID=Europe/Berlin:20260319T200000
DTEND;TZID=Europe/Berlin:20260319T235959
DESCRIPTION:Tickets: https://inpetto.nowticket.de/LB-25-26/4613444/\nEinlas
 s: 19.03.2026 19:30\nVeranstalter: inPetto va - eine Marke der Z-W-H GmbH
DTSTAMP:20260420T084044Z
LOCATION:Jugendstilfesthalle\, Udenheimer Str. 3\, 76661 Philippsburg
SUMMARY:Ingo Oschmann – Scherztherapie: Lachen\, bis einer heult!
END:VEVENT
END:VCALENDAR
