BEGIN:VCALENDAR
VERSION:2.0
PRODID:-//pretix//pretix.eu//
BEGIN:VTIMEZONE
TZID:Europe/Berlin
BEGIN:STANDARD
DTSTART:20001029T040000
RRULE:FREQ=YEARLY;BYDAY=-1SU;BYMONTH=10
TZNAME:CET
TZOFFSETFROM:+0200
TZOFFSETTO:+0100
END:STANDARD
BEGIN:DAYLIGHT
DTSTART:20000326T030000
RRULE:FREQ=YEARLY;BYDAY=-1SU;BYMONTH=3
TZNAME:CEST
TZOFFSETFROM:+0100
TZOFFSETTO:+0200
END:DAYLIGHT
END:VTIMEZONE
BEGIN:VEVENT
UID:pretix-inPetto-ZS-25-4613273@inpetto.nowticket.de
DTSTART;TZID=Europe/Berlin:20250911T200000
DTEND;TZID=Europe/Berlin:20250911T235959
DESCRIPTION:Tickets: https://inpetto.nowticket.de/ZS-25/4613273/\nEinlass: 
 11.09.2025 17:00\nVeranstalter: inPetto va - eine Marke der Z-W-H GmbH
DTSTAMP:20260420T134440Z
LOCATION:Zirkuszelt bei der Grillhütte am Tierpark\, Schwetzinger Str. 99\
 , 69190 Walldorf
SUMMARY:Café del Mundo - Guitarize the World
END:VEVENT
END:VCALENDAR
